BEGIN:VCALENDAR
VERSION:2.0
PRODID:-//jEvents 2.0 for Joomla//EN
CALSCALE:GREGORIAN
METHOD:PUBLISH
BEGIN:VTIMEZONE
TZID:Europe/Berlin
BEGIN:STANDARD
DTSTART:20221030T020000
RDATE:20230326T030000
TZOFFSETFROM:+0200
TZOFFSETTO:+0100
TZNAME:Europe/Berlin CET
END:STANDARD
BEGIN:STANDARD
DTSTART:20231029T020000
RDATE:20240331T030000
TZOFFSETFROM:+0200
TZOFFSETTO:+0100
TZNAME:Europe/Berlin CET
END:STANDARD
BEGIN:STANDARD
DTSTART:20241027T020000
RDATE:20250330T030000
TZOFFSETFROM:+0200
TZOFFSETTO:+0100
TZNAME:Europe/Berlin CET
END:STANDARD
BEGIN:STANDARD
DTSTART:20251026T020000
RDATE:20260329T030000
TZOFFSETFROM:+0200
TZOFFSETTO:+0100
TZNAME:Europe/Berlin CET
END:STANDARD
BEGIN:STANDARD
DTSTART:20261025T020000
RDATE:20270328T030000
TZOFFSETFROM:+0200
TZOFFSETTO:+0100
TZNAME:Europe/Berlin CET
END:STANDARD
BEGIN:STANDARD
DTSTART:20271031T020000
RDATE:20280326T030000
TZOFFSETFROM:+0200
TZOFFSETTO:+0100
TZNAME:Europe/Berlin CET
END:STANDARD
BEGIN:STANDARD
DTSTART:20281029T020000
RDATE:20290325T030000
TZOFFSETFROM:+0200
TZOFFSETTO:+0100
TZNAME:Europe/Berlin CET
END:STANDARD
BEGIN:STANDARD
DTSTART:20291028T020000
RDATE:20300331T030000
TZOFFSETFROM:+0200
TZOFFSETTO:+0100
TZNAME:Europe/Berlin CET
END:STANDARD
BEGIN:STANDARD
DTSTART:20301027T020000
RDATE:20310330T030000
TZOFFSETFROM:+0200
TZOFFSETTO:+0100
TZNAME:Europe/Berlin CET
END:STANDARD
BEGIN:STANDARD
DTSTART:20311026T020000
RDATE:20320328T030000
TZOFFSETFROM:+0200
TZOFFSETTO:+0100
TZNAME:Europe/Berlin CET
END:STANDARD
BEGIN:DAYLIGHT
DTSTART:20220812T090000
RDATE:20221030T020000
TZOFFSETFROM:+0100
TZOFFSETTO:+0200
TZNAME:Europe/Berlin CEST
END:DAYLIGHT
BEGIN:DAYLIGHT
DTSTART:20230326T030000
RDATE:20231029T020000
TZOFFSETFROM:+0100
TZOFFSETTO:+0200
TZNAME:Europe/Berlin CEST
END:DAYLIGHT
BEGIN:DAYLIGHT
DTSTART:20240331T030000
RDATE:20241027T020000
TZOFFSETFROM:+0100
TZOFFSETTO:+0200
TZNAME:Europe/Berlin CEST
END:DAYLIGHT
BEGIN:DAYLIGHT
DTSTART:20250330T030000
RDATE:20251026T020000
TZOFFSETFROM:+0100
TZOFFSETTO:+0200
TZNAME:Europe/Berlin CEST
END:DAYLIGHT
BEGIN:DAYLIGHT
DTSTART:20260329T030000
RDATE:20261025T020000
TZOFFSETFROM:+0100
TZOFFSETTO:+0200
TZNAME:Europe/Berlin CEST
END:DAYLIGHT
BEGIN:DAYLIGHT
DTSTART:20270328T030000
RDATE:20271031T020000
TZOFFSETFROM:+0100
TZOFFSETTO:+0200
TZNAME:Europe/Berlin CEST
END:DAYLIGHT
BEGIN:DAYLIGHT
DTSTART:20280326T030000
RDATE:20281029T020000
TZOFFSETFROM:+0100
TZOFFSETTO:+0200
TZNAME:Europe/Berlin CEST
END:DAYLIGHT
BEGIN:DAYLIGHT
DTSTART:20290325T030000
RDATE:20291028T020000
TZOFFSETFROM:+0100
TZOFFSETTO:+0200
TZNAME:Europe/Berlin CEST
END:DAYLIGHT
BEGIN:DAYLIGHT
DTSTART:20300331T030000
RDATE:20301027T020000
TZOFFSETFROM:+0100
TZOFFSETTO:+0200
TZNAME:Europe/Berlin CEST
END:DAYLIGHT
BEGIN:DAYLIGHT
DTSTART:20310330T030000
RDATE:20311026T020000
TZOFFSETFROM:+0100
TZOFFSETTO:+0200
TZNAME:Europe/Berlin CEST
END:DAYLIGHT
END:VTIMEZONE
BEGIN:VEVENT
UID:0db3aac35427fbb52c0b2798d3809d73
CATEGORIES:Tennis und Training für mich
CREATED:20230707T094532
SUMMARY:TVGG LK JUGEND Turnier (Ferienende - Sonntag)
LOCATION:Plätze gesperrt: 1-6 9 bis ca. 20:30 Uhr
DESCRIPTION:LK-Turnier für Jugendliche m und w (U11, U12, U14, U16 und U18 - ab U12 - g
 elber Ball).\nZusätzlich werden Doppelkonkurrenzen in der U14 und U18 männl
 ich und weiblich angeboten. Für die Meldung zählt das Meldedatum, also erst
  anmelden und abmelden geht immer noch ;-) Ihr könnt Euch ab sofort anmelde
 n oder mir (Claudia) eine Mail schreiben: Anmeldung, Auslosung, Termine, Sp
 ielplan und Ergebnisse sind zu finden auf mybigpoint (https://spieler.tenni
 s.de/web/guest/turniersuche?tournamentId=562389)\nhttps://spieler.tennis.de
 /web/guest/turniersuche?tournamentId=574877 (https://spieler.tennis.de/web/
 guest/turniersuche?tournamentId=562389)\n
X-ALT-DESC;FMTTYPE=text/html:<p>LK-Turnier für Jugendliche m und w (U11, U12, U14, U16 und U18 - ab U12 
 - gelber Ball).</p><div class="default-style">Zusätzlich werden Doppelkonku
 rrenzen in der U14 und U18 männlich und weiblich angeboten.</div><div>&nbsp
 ;</div><div>Für die Meldung zählt das Meldedatum, also erst anmelden und ab
 melden geht immer noch ;-)</div><div>&nbsp;</div><div><div class="default-s
 tyle">Ihr könnt Euch ab sofort anmelden oder mir (Claudia) eine Mail schrei
 ben:</div><div>&nbsp;</div></div><p>Anmeldung, Auslosung, Termine, Spielpla
 n und Ergebnisse sind zu finden auf <a href="https://spieler.tennis.de/web/
 guest/turniersuche?tournamentId=562389" target="_blank" rel="noopener">mybi
 gpoint</a></p><p><a href="https://spieler.tennis.de/web/guest/turniersuche?
 tournamentId=562389">https://spieler.tennis.de/web/guest/turniersuche?tourn
 amentId=574877</a></p>
CONTACT:Diese E-Mail-Adresse ist vor Spambots geschützt! Zur Anzeige muss JavaScript eingeschaltet sein.
X-EXTRAINFO:Mitglieder, die frei spielen möchten, kontaktieren bitte Claudia Sychla.
DTSTAMP:20260425T152835
DTSTART;TZID=Europe/Berlin:20230813T090000
DTEND;TZID=Europe/Berlin:20230813T203000
SEQUENCE:0
TRANSP:OPAQUE
END:VEVENT
END:VCALENDAR